BEGIN:VCALENDAR
VERSION:2.0
PRODID:-//Rumsey Hall School - ECPv6.15.17.1//NONSGML v1.0//EN
CALSCALE:GREGORIAN
METHOD:PUBLISH
X-ORIGINAL-URL:https://www.rumseyhall.org
X-WR-CALDESC:Events for Rumsey Hall School
REFRESH-INTERVAL;VALUE=DURATION:PT1H
X-Robots-Tag:noindex
X-PUBLISHED-TTL:PT1H
BEGIN:VTIMEZONE
TZID:America/New_York
BEGIN:DAYLIGHT
TZOFFSETFROM:-0500
TZOFFSETTO:-0400
TZNAME:EDT
DTSTART:20240310T070000
END:DAYLIGHT
BEGIN:STANDARD
TZOFFSETFROM:-0400
TZOFFSETTO:-0500
TZNAME:EST
DTSTART:20241103T060000
END:STANDARD
BEGIN:DAYLIGHT
TZOFFSETFROM:-0500
TZOFFSETTO:-0400
TZNAME:EDT
DTSTART:20250309T070000
END:DAYLIGHT
BEGIN:STANDARD
TZOFFSETFROM:-0400
TZOFFSETTO:-0500
TZNAME:EST
DTSTART:20251102T060000
END:STANDARD
BEGIN:DAYLIGHT
TZOFFSETFROM:-0500
TZOFFSETTO:-0400
TZNAME:EDT
DTSTART:20260308T070000
END:DAYLIGHT
BEGIN:STANDARD
TZOFFSETFROM:-0400
TZOFFSETTO:-0500
TZNAME:EST
DTSTART:20261101T060000
END:STANDARD
END:VTIMEZONE
BEGIN:VEVENT
DTSTART;TZID=America/New_York:20251113T080000
DTEND;TZID=America/New_York:20251113T090000
DTSTAMP:20260419T151850
CREATED:20250922T131112Z
LAST-MODIFIED:20250922T152755Z
UID:10000114-1763020800-1763024400@www.rumseyhall.org
SUMMARY:International Virtual Open Houses
DESCRIPTION:We invite international families to join an upcoming Virtual Open House and discover the unique opportunities that make Rumsey Hall a remarkable school.
URL:https://www.rumseyhall.org/event/international-virtual-open-houses-2/
LOCATION:Zoom
CATEGORIES:Admissions,Upper School
ATTACH;FMTTYPE=image/jpeg:https://www.rumseyhall.org/wp-content/uploads/2025/09/Open-Day-visit-1-scaled-1.jpg
END:VEVENT
BEGIN:VEVENT
DTSTART;TZID=America/New_York:20251021T080000
DTEND;TZID=America/New_York:20251021T090000
DTSTAMP:20260419T151850
CREATED:20250922T151919Z
LAST-MODIFIED:20250923T145409Z
UID:10000113-1761033600-1761037200@www.rumseyhall.org
SUMMARY:International Virtual Open Houses
DESCRIPTION:We invite international families to join an upcoming Virtual Open House and discover the unique opportunities that make Rumsey Hall a remarkable school. \nRegister Here
URL:https://www.rumseyhall.org/event/international-virtual-open-houses-5/
LOCATION:Zoom
CATEGORIES:Admissions,Upper School
ATTACH;FMTTYPE=image/jpeg:https://www.rumseyhall.org/wp-content/uploads/2025/09/Open-Day-visit-1-scaled-1.jpg
END:VEVENT
BEGIN:VEVENT
DTSTART;TZID=America/New_York:20251008T190000
DTEND;TZID=America/New_York:20251008T190000
DTSTAMP:20260419T151850
CREATED:20250916T200525Z
LAST-MODIFIED:20250922T150845Z
UID:10000108-1759950000-1759950000@www.rumseyhall.org
SUMMARY:The Value of the 9th Grade Year Webinar
DESCRIPTION:For Vth and VIth Form parents \nJoin us for a webinar conversation exploring the value of the 9th grade year at Rumsey Hall\, a distinctive academic year designed to challenge students\, foster leadership\, and prepare them for success in secondary school and beyond. \nRegister
URL:https://www.rumseyhall.org/event/zoom-webinar-the-value-of-the-9th-grade-year/
LOCATION:Zoom
CATEGORIES:Parents,Upper School
ATTACH;FMTTYPE=image/jpeg:https://www.rumseyhall.org/wp-content/uploads/2025/06/54154920767_d683ccd5c3_o-scaled.jpg
END:VEVENT
BEGIN:VEVENT
DTSTART;TZID=America/New_York:20251008T080000
DTEND;TZID=America/New_York:20251008T090000
DTSTAMP:20260419T151850
CREATED:20250922T151915Z
LAST-MODIFIED:20250923T145345Z
UID:10000112-1759910400-1759914000@www.rumseyhall.org
SUMMARY:International Virtual Open Houses
DESCRIPTION:We invite international families to join an upcoming Virtual Open House and discover the unique opportunities that make Rumsey Hall a remarkable school. \nRegister Here
URL:https://www.rumseyhall.org/event/international-virtual-open-houses-4/
LOCATION:Zoom
CATEGORIES:Admissions,Upper School
ATTACH;FMTTYPE=image/jpeg:https://www.rumseyhall.org/wp-content/uploads/2025/09/Open-Day-visit-1-scaled-1.jpg
END:VEVENT
BEGIN:VEVENT
DTSTART;TZID=America/New_York:20250930T080000
DTEND;TZID=America/New_York:20250930T090000
DTSTAMP:20260419T151850
CREATED:20250922T151902Z
LAST-MODIFIED:20250923T142718Z
UID:10000111-1759219200-1759222800@www.rumseyhall.org
SUMMARY:International Virtual Open Houses
DESCRIPTION:We invite international families to join an upcoming Virtual Open House and discover the unique opportunities that make Rumsey Hall a remarkable school. \nRegister Here
URL:https://www.rumseyhall.org/event/international-virtual-open-houses-3/
LOCATION:Zoom
CATEGORIES:Admissions,Upper School
ATTACH;FMTTYPE=image/jpeg:https://www.rumseyhall.org/wp-content/uploads/2025/09/Open-Day-visit-1-scaled-1.jpg
END:VEVENT
END:VCALENDAR